BEGIN:VCALENDAR
PRODID:-//AT Content Types//AT Event//EN
VERSION:2.0
METHOD:PUBLISH
BEGIN:VEVENT
DTSTAMP:20260421T124512Z
CREATED:20060523T193934Z
UID:ATEvent-1f2a3f89b4af16a46b9cdf6677f11e2d
SEQUENCE:0
LAST-MODIFIED:20240904T234057Z
SUMMARY:Laborbesichtigungen an der Hochschule Karlsruhe – Technik und Wirtschaft zur Eröffnung der Nordstadtbahn
DTSTART:20060527T130000Z
DTEND:20060527T190000Z
DESCRIPTION:die Hochschule Karlsruhe und Technik stellt sich vor
LOCATION:Hochschule Karlsruhe
CATEGORIES:Termin
CLASS:PUBLIC
PRIORITY:3
TRANSP:OPAQUE
END:VEVENT
END:VCALENDAR
