BEGIN:VCALENDAR
PRODID:-//AT Content Types//AT Event//EN
VERSION:2.0
METHOD:PUBLISH
BEGIN:VEVENT
DTSTAMP:20260424T072639Z
CREATED:20180712T094154Z
UID:ATEvent-40f81522074887718159e5bfc4ad2d9b
SEQUENCE:0
LAST-MODIFIED:20240904T234107Z
SUMMARY:AStA-Sekretariat geschlossen
DTSTART:20180731T000000Z
DTEND:20180731T000000Z
DESCRIPTION:Das Sekretariat ist am Dienstag, den 31. Juli 2018 nicht besetzt.
CATEGORIES:Termin
CLASS:PUBLIC
PRIORITY:3
TRANSP:OPAQUE
END:VEVENT
END:VCALENDAR
