BEGIN:VCALENDAR
PRODID:-//AT Content Types//AT Event//EN
VERSION:2.0
METHOD:PUBLISH
BEGIN:VEVENT
DTSTAMP:20260421T180120Z
CREATED:20171102T095835Z
UID:ATEvent-77a8a766e44bb5fd8751dfffc8739f69
SEQUENCE:0
LAST-MODIFIED:20240904T234108Z
SUMMARY:AStA-Kino
DTSTART:20171116T200000Z
DTEND:20171116T220000Z
DESCRIPTION:"Interstellar"
LOCATION:Li-Bau, he-Hörsaal
CATEGORIES:Termin
CLASS:PUBLIC
PRIORITY:3
TRANSP:OPAQUE
END:VEVENT
END:VCALENDAR
