BEGIN:VCALENDAR
PRODID:-//AT Content Types//AT Event//EN
VERSION:2.0
METHOD:PUBLISH
BEGIN:VEVENT
DTSTAMP:20260421T085018Z
CREATED:20160412T102020Z
UID:ATEvent-c5966e9212f0939ef86a302531e023f7
SEQUENCE:0
LAST-MODIFIED:20240904T234108Z
SUMMARY:Evaluation der Lehre
DTSTART:20171201T080000Z
DTEND:20171220T235500Z
DESCRIPTION:Jetzt könnt ihr die Qualität eurer Vorlesungen bewerten. Mehr dazu findet ihr unter: http://fachschaft-ka.de/asta/downloads, Erstiheft WS 17/18, Seite 44. 
CATEGORIES:Termin
CLASS:PUBLIC
PRIORITY:3
TRANSP:OPAQUE
END:VEVENT
END:VCALENDAR
