BEGIN:VCALENDAR
PRODID:-//AT Content Types//AT Event//EN
VERSION:2.0
METHOD:PUBLISH
BEGIN:VEVENT
DTSTAMP:20260424T031225Z
CREATED:20220121T100514Z
UID:ATEvent-90d6fc981d858684e5b02ed98777ee0b
SEQUENCE:0
LAST-MODIFIED:20240904T234106Z
SUMMARY:Erstsemesterbegrüßung
DTSTART:20220316T113000Z
DTEND:20220316T130000Z
DESCRIPTION:Begrüßung der Studienanfänger/innen durch das Rektorat und die Studierendenvertretung.
CATEGORIES:Termin
CLASS:PUBLIC
PRIORITY:3
TRANSP:OPAQUE
END:VEVENT
END:VCALENDAR
